BEGIN:VCALENDAR
VERSION:2.0
PRODID:-//COST RESTORE - ECPv4.9.5//NONSGML v1.0//EN
CALSCALE:GREGORIAN
METHOD:PUBLISH
X-WR-CALNAME:COST RESTORE
X-ORIGINAL-URL:https://www.eurestore.eu
X-WR-CALDESC:Events for COST RESTORE
BEGIN:VTIMEZONE
TZID:"UTC"
BEGIN:STANDARD
TZOFFSETFROM:+0000
TZOFFSETTO:+0000
TZNAME:UTC
DTSTART:20190101T000000
END:STANDARD
END:VTIMEZONE
BEGIN:VEVENT
DTSTART;TZID="UTC":20190627T083000
DTEND;TZID="UTC":20190628T120000
DTSTAMP:20260424T174708
CREATED:20190525T062237Z
LAST-MODIFIED:20190810T072404Z
UID:7015-1561624200-1561723200@www.eurestore.eu
SUMMARY:RESTORE WG4 - CG meeting
DESCRIPTION:Make a note of the dates … More details soon \n
URL:https://www.eurestore.eu/event/restore-wg4-cg-meeting/
LOCATION:Riga\, Latvia
CATEGORIES:RESTORE
END:VEVENT
END:VCALENDAR